BEGIN:VCALENDAR
VERSION:2.0
PRODID:-//wp-events-plugin.com//7.2.3.1//EN
TZID:Europe/Berlin
X-WR-TIMEZONE:Europe/Berlin
BEGIN:VEVENT
UID:1@schachjugend-owl.de
DTSTART;TZID=Europe/Berlin:20160719T180000
DTEND;TZID=Europe/Berlin:20160719T180000
DTSTAMP:20160619T135435Z
URL:https://www.schachjugend-owl.de/events/jugendausschuss-sitzung/
SUMMARY:Jugendausschuss-Sitzung
DESCRIPTION:
LOCATION:Alte Weberei\, Bogenstr. 1-8\, Gütersloh\, 33330\, Deutschland
GEO:51.90209309999999;8.376584600000001
X-APPLE-STRUCTURED-LOCATION;VALUE=URI;X-ADDRESS=Bogenstr. 1-8\, Gütersloh\
 , 33330\, Deutschland;X-APPLE-RADIUS=100;X-TITLE=Alte Weberei:geo:51.90209
 309999999,8.376584600000001
END:VEVENT
BEGIN:VTIMEZONE
TZID:Europe/Berlin
X-LIC-LOCATION:Europe/Berlin
BEGIN:DAYLIGHT
DTSTART:20160327T030000
TZOFFSETFROM:+0100
TZOFFSETTO:+0200
TZNAME:CEST
END:DAYLIGHT
END:VTIMEZONE
END:VCALENDAR